Workbook

Sheet Dag 1
A1: Festivalens navn | D1: Trondheimsfestivalen – dag 1
A2: Dato | D2: 46297
A3: Individuell plassering etter dagens fangstvekt (kg).
A4: NHF nr | B4: Plassering | C4: Fornavn | D4: Etternavn | E4: Klasse | F4: Klubb | G4: Resultat lørdag | H4: Klassepoeng | I4: totalpoeng | J4: NC poeng
A5: 6313 | B5: =1+COUNTIF($G$17:$G$22,">"&G5) -> 1 | C5: Svein Erling | D5: Smolan | E5: S | F5: Trondheim HK | G5: 35.33 | H5: =101-B5 -> 100 | I5: 100 | J5: =(H5+I5)/2 -> 100
A6: 3502 | B6: =1+COUNTIF($G$12:$G$15,">"&G6) -> 1 | C6: Anne-Grete | D6: Sætherø | E6: D | F6: Nordvegen HK | G6: 28.4 | H6: =101-B6 -> 100 | I6: 99 | J6: =(H6+I6)/2 -> 99.5
A7: 3512 | B7: =1+COUNTIF($G$5:$G$11,">"&G7) -> 3 | C7: Helge | D7: Melhus | E7: H | F7: Nordvegen HK | G7: 26.18 | H7: =101-B7 -> 98 | I7: 98 | J7: =(H7+I7)/2 -> 98
A8: 6426 | B8: =1+COUNTIF($G$17:$G$22,">"&G8) -> 1 | C8: Ingvar | D8: Kjærvik | E8: S | F8: Trondheim HK | G8: 21.29 | H8: =101-B8 -> 100 | I8: 97 | J8: =(H8+I8)/2 -> 98.5
A9: 4344 | B9: =1+COUNTIF($G$17:$G$22,">"&G9) -> 1 | C9: Sven | D9: Solbakken | E9: S | F9: Oslo HK | G9: 19.86 | H9: =101-B9 -> 100 | I9: 96 | J9: =(H9+I9)/2 -> 98
A10: 6415 | B10: =1+COUNTIF($G$5:$G$11,">"&G10) -> 6 | C10: Ivan | D10: Ivanov | E10: H | F10: Trondheim HK | G10: 18.75 | H10: =101-B10 -> 95 | I10: 95 | J10: =(H10+I10)/2 -> 95
A11: 2001 | B11: =1+COUNTIF($G$5:$G$11,">"&G11) -> 7 | C11: Lars Erik | D11: Berg | E11: H | F11: Botne HK | G11: 13.94 | H11: =101-B11 -> 94 | I11: 94 | J11: =(H11+I11)/2 -> 94
A12: 6387 | B12: =1+COUNTIF($G$17:$G$22,">"&G12) -> 1 | C12: Håvard | D12: Strand | E12: S | F12: Trondheim HK | G12: 13.48 | H12: =101-B12 -> 100 | I12: 93 | J12: =(H12+I12)/2 -> 96.5
A13: 2011 | B13: =1+COUNTIF($G$16:$G$16,">"&G13) -> 1 | C13: Emma U | D13: Berg | E13: J | F13: Botne HK | G13: 12.88 | H13: =101-B13 -> 100 | I13: 92 | J13: =(H13+I13)/2 -> 96
A14: 6302 | B14: =1+COUNTIF($G$17:$G$22,">"&G14) -> 1 | C14: Sigurd | D14: Smolan | E14: S | F14: Trondheim HK | G14: 9.9 | H14: =101-B14 -> 100 | I14: 91 | J14: =(H14+I14)/2 -> 95.5
A15: 6413 | B15: =1+COUNTIF($G$5:$G$11,">"&G15) -> 8 | C15: Ketil | D15: Langvatn | E15: H | F15: Trondheim HK | G15: 7.3 | H15: =101-B15 -> 93 | I15: 90 | J15: =(H15+I15)/2 -> 91.5
A16: 6427 | B16: =1+COUNTIF($G$12:$G$15,">"&G16) -> 5 | C16: Marlene A | D16: Fossheim | E16: D | F16: Trondheim HK | G16: 6.46 | H16: =101-B16 -> 96 | I16: 89 | J16: =(H16+I16)/2 -> 92.5
A17: 6361 | B17: =1+COUNTIF($G$12:$G$15,">"&G17) -> 5 | C17: Ingrid | D17: Lunden | E17: D | F17: Trondheim HK | G17: 6.38 | H17: =101-B17 -> 96 | I17: 88 | J17: =(H17+I17)/2 -> 92
A18: 4355 | B18: =1+COUNTIF($G$17:$G$22,">"&G18) -> 2 | C18: Johan | D18: Winge | E18: S | F18: Oslo HK | G18: 5.61 | H18: =101-B18 -> 99 | I18: 87 | J18: =(H18+I18)/2 -> 93
A19: 6341 | B19: =1+COUNTIF($G$5:$G$11,">"&G19) -> 8 | C19: Erik | D19: Dahl | E19: H | F19: Trondheim HK | G19: 5.18 | H19: =101-B19 -> 93 | I19: 86 | J19: =(H19+I19)/2 -> 89.5
A20: 5521 | B20: =1+COUNTIF($G$17:$G$22,">"&G20) -> 4 | C20: Frode | D20: Lerstein | E20: S | F20: Sørøya HK | G20: 3.06 | H20: =101-B20 -> 97 | I20: 85 | J20: =(H20+I20)/2 -> 91
A21: 4313 | B21: =1+COUNTIF($G$5:$G$11,">"&G21) -> 8 | C21: Jostein | D21: Nybakke | E21: H | F21: Oslo HK | G21: 2.02 | H21: =101-B21 -> 93 | I21: 84 | J21: =(H21+I21)/2 -> 88.5
A22: 6390 | B22: =1+COUNTIF($G$5:$G$11,">"&G22) -> 8 | C22: Jan Morten | D22: Risholt | E22: H | F22: Trondheim HK | G22: 1.17 | H22: =101-B22 -> 93 | I22: 83 | J22: =(H22+I22)/2 -> 88
E24: Samlet vekt (kg) | G24: =SUM(G5,G6,G7,G8,G9,G10,G11,G12,G13,G14,G15,G16,G17,G18,G19,G20,G21,G22,#REF!) -> #REF!
A26: Største fisker
A27: Nr. | C27: Medlemsnummer NHF | D27: Fornavn | E27: Etternavn | F27: Klubb | G27: Art | H27: Vekt
A28: 1 | C28: 4344 | D28: Sven | E28: Solbakken | F28: Oslo HK | G28: Sei | H28: 5.87
A29: 2 | C29: 3512 | D29: Helge | E29: Melhus | F29: Nordvegen HK | G29: Sei | H29: 4.04
A30: 3 | C30: 6313 | D30: Svein Erling | E30: Smolan | F30: Trondheim HK | G30: Sei | H30: 3.9
A33: Lag – sammenlagt dag 1 og dag 2 (kg)
A34: Nr. | B34: NHF-nummer | C34: Fornavn | D34: Etternavn | E34: Klubb | F34: Lag | G34: Vekt
B35: 4355 | C35: Johan | D35: Winge | E35: Oslo HK | F35: MIX 1 | G35: ='Dag 1'!G22+'Dag 2'!G19 -> 33.92
B36: 4344 | C36: Sven | D36: Solbakken | E36: Oslo HK | F36: MIX 1 | G36: ='Dag 1'!G19+'Dag 2'!G18 -> 42.41
B37: 4313 | C37: Jostein | D37: Nybakke | E37: Oslo HK | F37: MIX 1 | G37: ='Dag 1'!G10+'Dag 2'!G6 -> 43.05
B38: 5521 | C38: Frode | D38: Lerstein | E38: Sørøya HK | F38: MIX 1 | G38: ='Dag 1'!#REF!+'Dag 2'!G20 -> #REF!
A39: 1 | F39: MIX 1 | G39: =SUM(G35:G38) -> #REF!
B41: 3502 | C41: Anne-Grete | D41: Sætherø | E41: Nordvegen HK | F41: MIX 2 | G41: ='Dag 1'!G12+'Dag 2'!G13 -> 46.87
B42: 3512 | C42: Helge | D42: Melhus | E42: Nordvegen HK | F42: MIX 2 | G42: ='Dag 1'!G5+'Dag 2'!G9 -> 43.95
B43: 2001 | C43: Lars Erik | D43: Berg | E43: Botne HK | F43: MIX 2 | G43: ='Dag 1'!G7+'Dag 2'!G7 -> 48.96
B44: 2011 | C44: Emma U | D44: Berg | E44: Botne HK | F44: MIX 2 | G44: ='Dag 1'!G16+'Dag 2'!G17 -> 24.33
A45: 2 | F45: MIX 2 | G45: =SUM(G41:G44) -> 164.11
B47: 6426 | C47: Ingvar | D47: Kjærvik | E47: Trondheim HK | F47: THK 2 | G47: ='Dag 1'!G18+'Dag 2'!G22 -> 32.54
B48: 6387 | C48: Håvard | D48: Strand | E48: Trondheim HK | F48: THK 2 | G48: ='Dag 1'!G20+'Dag 2'!G24 -> 18.96
B49: 6313 | C49: Svein Erling | D49: Smolan | E49: Trondheim HK | F49: THK 2 | G49: ='Dag 1'!G17+'Dag 2'!G23 -> 33.21
B50: 6415 | C50: Ivan | D50: Ivanov | E50: Trondheim HK | F50: THK 2 | G50: ='Dag 1'!G6+'Dag 2'!G12 -> 70.31
A51: 3 | F51: THK 2 | G51: =SUM(G47:G50) -> 155.02
B53: 6341 | C53: Erik | D53: Dahl | E53: Trondheim HK | F53: THK 1 | G53: ='Dag 1'!G9+'Dag 2'!G8 -> 38.66
B54: 6361 | C54: Ingrid | D54: Lunden | E54: Trondheim HK | F54: THK 1 | G54: ='Dag 1'!G14+'Dag 2'!G14 -> 39.83
B55: 6302 | C55: Sigurd | D55: Smolan | E55: Trondheim HK | F55: THK 1 | G55: ='Dag 1'!G21+'Dag 2'!G21 -> 29.86
B56: 6413 | C56: Ketil | D56: Langvatn | E56: Trondheim HK | F56: THK 1 | G56: ='Dag 1'!G8+'Dag 2'!G10 -> 121.94
A57: 4 | F57: THK 1 | G57: =SUM(G53:G56) -> 230.29
B59: 6427 | C59: Marlene A | D59: Fossheim | E59: Trondheim HK | F59: THK 3 | G59: ='Dag 1'!G13+'Dag 2'!G15 -> 36.86
B60: 6390 | C60: Jan Morten | D60: Risholt | E60: Trondheim HK | F60: THK 3 | G60: ='Dag 1'!G11+'Dag 2'!G11 -> 58.02
B61: 6417 | C61: Ida | D61: Hammerfjell | E61: Trondheim HK | F61: THK 3 | G61: ='Dag 1'!G15+'Dag 2'!G16 -> 29.23
A62: 5 | F62: THK 3 | G62: =SUM(G59:G61) -> 124.11
A64: Alle lagmedlemmer teller. Lagresultatet gjelder samlet vekt over begge dager.

Sheet Dag 2
A1: Festivalens navn | D1: Trondheimsfestivalen – dag 2
A2: Dato | D2: 46298
A3: Individuell plassering etter dagens fangstvekt (kg).
A4: Herrer
A5: NHF nr | B5: Plassering | C5: Fornavn | D5: Etternavn | E5: Klasse | F5: Klubb | G5: Resultat lørdag | H5: Klassepoeng | I5: totalpoeng | J5: NC poeng
A6: 3502 | B6: =1+COUNTIF($G$13:$G$16,">"&G6) -> 3 | C6: Anne-Grete | D6: Sætherø | E6: D | F6: Nordvegen HK | G6: 24.3 | H6: =101-B6 -> 98 | I6: 89 | J6: =(H6+I6)/2 -> 93.5
A7: 6361 | B7: =1+COUNTIF($G$13:$G$16,">"&G7) -> 4 | C7: Ingrid | D7: Lunden | E7: D | F7: Trondheim HK | G7: 22.78 | H7: =101-B7 -> 97 | I7: 87 | J7: =(H7+I7)/2 -> 92
A8: 6427 | B8: =1+COUNTIF($G$13:$G$16,">"&G8) -> 5 | C8: Marlene A | D8: Fossheim | E8: D | F8: Trondheim HK | G8: 18.8 | H8: =101-B8 -> 96 | I8: 85 | J8: =(H8+I8)/2 -> 90.5
A9: 6417 | B9: =1+COUNTIF($G$13:$G$16,">"&G9) -> 5 | C9: Ida | D9: Hammerfjell | E9: D | F9: Trondheim HK | G9: 8.62 | H9: =101-B9 -> 96 | I9: 82 | J9: =(H9+I9)/2 -> 89
A10: 4313 | B10: =1+COUNTIF($G$6:$G$12,">"&G10) -> 1 | C10: Jostein | D10: Nybakke | E10: H | F10: Oslo HK | G10: 100.65 | H10: =101-B10 -> 100 | I10: 100 | J10: =(H10+I10)/2 -> 100
A11: 2001 | B11: =1+COUNTIF($G$6:$G$12,">"&G11) -> 2 | C11: Lars Erik | D11: Berg | E11: H | F11: Botne HK | G11: 44.08 | H11: =101-B11 -> 99 | I11: 99 | J11: =(H11+I11)/2 -> 99
A12: 6341 | B12: =1+COUNTIF($G$6:$G$12,">"&G12) -> 3 | C12: Erik | D12: Dahl | E12: H | F12: Trondheim HK | G12: 41.91 | H12: =101-B12 -> 98 | I12: 98 | J12: =(H12+I12)/2 -> 98
A13: 3512 | B13: =1+COUNTIF($G$6:$G$12,">"&G13) -> 4 | C13: Helge | D13: Melhus | E13: H | F13: Nordvegen HK | G13: 33.39 | H13: =101-B13 -> 97 | I13: 96 | J13: =(H13+I13)/2 -> 96.5
A14: 6413 | B14: =1+COUNTIF($G$6:$G$12,">"&G14) -> 4 | C14: Ketil | D14: Langvatn | E14: H | F14: Trondheim HK | G14: 29.93 | H14: =101-B14 -> 97 | I14: 93 | J14: =(H14+I14)/2 -> 95
A15: 6390 | B15: =1+COUNTIF($G$6:$G$12,">"&G15) -> 5 | C15: Jan Morten | D15: Risholt | E15: H | F15: Trondheim HK | G15: 23.98 | H15: =101-B15 -> 96 | I15: 88 | J15: =(H15+I15)/2 -> 92
A16: 6415 | B16: =1+COUNTIF($G$6:$G$12,">"&G16) -> 6 | C16: Ivan | D16: Ivanov | E16: H | F16: Trondheim HK | G16: 21.93 | H16: =101-B16 -> 95 | I16: 86 | J16: =(H16+I16)/2 -> 90.5
A17: 2011 | B17: =1+COUNTIF($G$17:$G$17,">"&G17) -> 1 | C17: Emma U | D17: Berg | E17: J | F17: Botne HK | G17: 17.87 | H17: =101-B17 -> 100 | I17: 84 | J17: =(H17+I17)/2 -> 92
A18: 4344 | B18: =1+COUNTIF($G$18:$G$24,">"&G18) -> 1 | C18: Sven | D18: Solbakken | E18: S | F18: Oslo HK | G18: 37.23 | H18: =101-B18 -> 100 | I18: 97 | J18: =(H18+I18)/2 -> 98.5
A19: 4355 | B19: =1+COUNTIF($G$18:$G$24,">"&G19) -> 2 | C19: Johan | D19: Winge | E19: S | F19: Oslo HK | G19: 32.75 | H19: =101-B19 -> 99 | I19: 95 | J19: =(H19+I19)/2 -> 97
A20: 5521 | B20: =1+COUNTIF($G$18:$G$24,">"&G20) -> 3 | C20: Frode | D20: Lerstein | E20: S | F20: Sørøya HK | G20: 31.94 | H20: =101-B20 -> 98 | I20: 94 | J20: =(H20+I20)/2 -> 96
A21: 6302 | B21: =1+COUNTIF($G$18:$G$24,">"&G21) -> 4 | C21: Sigurd | D21: Smolan | E21: S | F21: Trondheim HK | G21: 27.84 | H21: =101-B21 -> 97 | I21: 92 | J21: =(H21+I21)/2 -> 94.5
A22: 6426 | B22: =1+COUNTIF($G$18:$G$24,">"&G22) -> 5 | C22: Ingvar | D22: Kjærvik | E22: S | F22: Trondheim HK | G22: 26.93 | H22: =101-B22 -> 96 | I22: 91 | J22: =(H22+I22)/2 -> 93.5
A23: 6313 | B23: =1+COUNTIF($G$18:$G$24,">"&G23) -> 6 | C23: Svein Erling | D23: Smolan | E23: S | F23: Trondheim HK | G23: 26.83 | H23: =101-B23 -> 95 | I23: 90 | J23: =(H23+I23)/2 -> 92.5
A24: 6387 | B24: =1+COUNTIF($G$18:$G$24,">"&G24) -> 7 | C24: Håvard | D24: Strand | E24: S | F24: Trondheim HK | G24: 15.9 | H24: =101-B24 -> 94 | I24: 83 | J24: =(H24+I24)/2 -> 88.5
E26: Samlet vekt (kg) | G26: =SUM(G6,G7,G8,G9,G10,G11,G12,G13,G14,G15,G16,G17,G18,G19,G20,G21,G22,G23,G24) -> 587.66
A28: Største fisker
A29: Nr. | C29: Medlemsnummer NHF | D29: Fornavn | E29: Etternavn | F29: Klubb | G29: Art | H29: Vekt
A30: 1 | C30: 4355 | D30: Johan | E30: Winge | F30: Oslo HK | G30: Sei | H30: 7.28
A31: 2 | C31: 6426 | D31: Ingvar | E31: Kjærvik | F31: Trondheim HK | G31: Sei | H31: 6.66
A32: 3 | C32: 6390 | D32: Jan Morten | E32: Risholt | F32: Trondheim HK | G32: Lange | H32: 6.21
A35: Lag – sammenlagt dag 1 og dag 2 (kg)
A36: Nr. | B36: NHF-nummer | C36: Fornavn | D36: Etternavn | E36: Klubb | F36: Lag | G36: Vekt
B37: 4355 | C37: Johan | D37: Winge | E37: Oslo HK | F37: MIX 1 | G37: ='Dag 1'!G22+'Dag 2'!G19 -> 33.92
B38: 4344 | C38: Sven | D38: Solbakken | E38: Oslo HK | F38: MIX 1 | G38: ='Dag 1'!G19+'Dag 2'!G18 -> 42.41
B39: 4313 | C39: Jostein | D39: Nybakke | E39: Oslo HK | F39: MIX 1 | G39: ='Dag 1'!G10+'Dag 2'!G6 -> 43.05
B40: 5521 | C40: Frode | D40: Lerstein | E40: Sørøya HK | F40: MIX 1 | G40: ='Dag 1'!#REF!+'Dag 2'!G20 -> #REF!
A41: 1 | F41: MIX 1 | G41: =SUM(G37:G40) -> #REF!
B43: 3502 | C43: Anne-Grete | D43: Sætherø | E43: Nordvegen HK | F43: MIX 2 | G43: ='Dag 1'!G12+'Dag 2'!G13 -> 46.87
B44: 3512 | C44: Helge | D44: Melhus | E44: Nordvegen HK | F44: MIX 2 | G44: ='Dag 1'!G5+'Dag 2'!G9 -> 43.95
B45: 2001 | C45: Lars Erik | D45: Berg | E45: Botne HK | F45: MIX 2 | G45: ='Dag 1'!G7+'Dag 2'!G7 -> 48.96
B46: 2011 | C46: Emma U | D46: Berg | E46: Botne HK | F46: MIX 2 | G46: ='Dag 1'!G16+'Dag 2'!G17 -> 24.33
A47: 2 | F47: MIX 2 | G47: =SUM(G43:G46) -> 164.11
B49: 6426 | C49: Ingvar | D49: Kjærvik | E49: Trondheim HK | F49: THK 2 | G49: ='Dag 1'!G18+'Dag 2'!G22 -> 32.54
B50: 6387 | C50: Håvard | D50: Strand | E50: Trondheim HK | F50: THK 2 | G50: ='Dag 1'!G20+'Dag 2'!G24 -> 18.96
B51: 6313 | C51: Svein Erling | D51: Smolan | E51: Trondheim HK | F51: THK 2 | G51: ='Dag 1'!G17+'Dag 2'!G23 -> 33.21
B52: 6415 | C52: Ivan | D52: Ivanov | E52: Trondheim HK | F52: THK 2 | G52: ='Dag 1'!G6+'Dag 2'!G12 -> 70.31
A53: 3 | F53: THK 2 | G53: =SUM(G49:G52) -> 155.02
B55: 6341 | C55: Erik | D55: Dahl | E55: Trondheim HK | F55: THK 1 | G55: ='Dag 1'!G9+'Dag 2'!G8 -> 38.66
B56: 6361 | C56: Ingrid | D56: Lunden | E56: Trondheim HK | F56: THK 1 | G56: ='Dag 1'!G14+'Dag 2'!G14 -> 39.83
B57: 6302 | C57: Sigurd | D57: Smolan | E57: Trondheim HK | F57: THK 1 | G57: ='Dag 1'!G21+'Dag 2'!G21 -> 29.86
B58: 6413 | C58: Ketil | D58: Langvatn | E58: Trondheim HK | F58: THK 1 | G58: ='Dag 1'!G8+'Dag 2'!G10 -> 121.94
A59: 4 | F59: THK 1 | G59: =SUM(G55:G58) -> 230.29
B61: 6427 | C61: Marlene A | D61: Fossheim | E61: Trondheim HK | F61: THK 3 | G61: ='Dag 1'!G13+'Dag 2'!G15 -> 36.86
B62: 6390 | C62: Jan Morten | D62: Risholt | E62: Trondheim HK | F62: THK 3 | G62: ='Dag 1'!G11+'Dag 2'!G11 -> 58.02
B63: 6417 | C63: Ida | D63: Hammerfjell | E63: Trondheim HK | F63: THK 3 | G63: ='Dag 1'!G15+'Dag 2'!G16 -> 29.23
A64: 5 | F64: THK 3 | G64: =SUM(G61:G63) -> 124.11
A66: Alle lagmedlemmer teller. Lagresultatet gjelder samlet vekt over begge dager.
